BEGIN:VCALENDAR
VERSION:2.0
PRODID:icalendar-ruby
CALSCALE:GREGORIAN
METHOD:PUBLISH
BEGIN:VEVENT
DTSTAMP:20260424T054018Z
UID:22-982476@ctkbozeman.org
DTSTART:20261013T180000Z
DTEND:20261013T190000Z
CLASS:PUBLIC
CREATED:20260423T195304
DESCRIPTION:Men's Book Study
LAST-MODIFIED:20260423T195304
LOCATION:
SUMMARY:Men's Book Study
URL;VALUE=URI:https://ctkbozeman.org/events/mens-book-study/2026-10-13
END:VEVENT
END:VCALENDAR
