BEGIN:VCALENDAR
VERSION:2.0
PRODID:icalendar-ruby
CALSCALE:GREGORIAN
METHOD:PUBLISH
BEGIN:VEVENT
DTSTAMP:20260424T085533Z
UID:22-982478@ctkbozeman.org
DTSTART:20261027T180000Z
DTEND:20261027T190000Z
CLASS:PUBLIC
CREATED:20260423T195304
DESCRIPTION:Men's Book Study
LAST-MODIFIED:20260423T195304
LOCATION:
SUMMARY:Men's Book Study
URL;VALUE=URI:https://ctkbozeman.org/events/mens-book-study/2026-10-27
END:VEVENT
END:VCALENDAR
